BEGIN:VCALENDAR
VERSION:2.0
PRODID:-//chikkutakku.com//RDFCal 1.0//EN
X-WR-CALDESC:GoogleカレンダーやiCalendar形式情報を共有シェ
 アしましょう。近所のイベントから全国のイベントま
 で今日のイベント検索やスケジュールを決めるならち
 っくたっく
X-WR-CALNAME:ちっくたっく
X-WR-TIMEZONE:UTC
BEGIN:VEVENT
SUMMARY:理想のカラダに変わる! 脱力トレーニング
DTSTART;VALUE=DATE:20260520
DTEND;VALUE=DATE:20260521
UID:259425778183
DESCRIPTION:2026-05-21理想のカラダに変わる! 脱力トレーニ
 ング中野 崇宝島社
LOCATION:
END:VEVENT
END:VCALENDAR
