BEGIN:VCALENDAR
VERSION:2.0
PRODID:-//chikkutakku.com//RDFCal 1.0//EN
X-WR-CALDESC:GoogleカレンダーやiCalendar形式情報を共有シェ
 アしましょう。近所のイベントから全国のイベントま
 で今日のイベント検索やスケジュールを決めるならち
 っくたっく
X-WR-CALNAME:ちっくたっく
X-WR-TIMEZONE:UTC
BEGIN:VEVENT
SUMMARY:第34回渋ボxロリ喫茶
DTSTART;VALUE=DATE-TIME:20260425T130000Z
DTEND;VALUE=DATE-TIME:20260425T140000Z
UID:259495219326
DESCRIPTION:【イベント主催者】\n　Remeu\n【イベント内容
 】\n　「その声、聞き逃せない。小さな体に大人の魅力
 ！」渋くてイケボなロリっ子たちと触れ合うギャップ
 を楽しむVRC内の新感覚イベントです！皆様のお越しを
 お待ちしております！！\n【イベントジャンル】\n　店
 舗系イベント\, ロールプレイ\n【参加条件（モデル、人
 数制限など）】\n　15人程度\n【参加方法】\n　あらかじ
 め「渋ボ×ロリ喫茶 SUGAR SMOKE ~Returns~」のグループに参
 加をお願いします。（SUGSMO.6199）\n22:00になりましたら
 グループ+にてjoinをおねがいします！\n【備考】\n　グ
 ループのURL https://t.co/kiGxAYThgA\nX（Twitter）のURL https://x.co
 m/SugaSmoRturns
LOCATION:
END:VEVENT
END:VCALENDAR
