BEGIN:VCALENDAR
VERSION:2.0
PRODID:-//chikkutakku.com//RDFCal 1.0//EN
X-WR-CALDESC:GoogleカレンダーやiCalendar形式情報を共有シェ
 アしましょう。近所のイベントから全国のイベントま
 で今日のイベント検索やスケジュールを決めるならち
 っくたっく
X-WR-CALNAME:ちっくたっく
X-WR-TIMEZONE:UTC
BEGIN:VEVENT
SUMMARY:山鳥毛　拵展示なし
DTSTART;VALUE=DATE:20260424
DTEND;VALUE=DATE:20260506
UID:260060093089
DESCRIPTION:テーマ展「魅了する刀剣―収蔵品セレクショ
 ン―」公式ページ2026年2月10日～5月6日山鳥毛展示期間
 ：拵え展示あり　3月20日～3月29日　※期間中無休拵え
 展示なし　4月25日～5月6日　※期間中休館あり
LOCATION:備前長船刀剣博物館\, 日本、〒701-4271 岡山県瀬
 戸内市長船町長船９６６
END:VEVENT
END:VCALENDAR
