BEGIN:VCALENDAR
VERSION:2.0
PRODID:-//chikkutakku.com//RDFCal 1.0//EN
X-WR-CALDESC:GoogleカレンダーやiCalendar形式情報を共有シェ
 アしましょう。近所のイベントから全国のイベントま
 で今日のイベント検索やスケジュールを決めるならち
 っくたっく
X-WR-CALNAME:ちっくたっく
X-WR-TIMEZONE:UTC
BEGIN:VEVENT
SUMMARY:お狐様のお気に入り 2 特装版
DTSTART;VALUE=DATE:20260520
DTEND;VALUE=DATE:20260521
UID:260242200096
DESCRIPTION:2026-05-21お狐様のお気に入り 2 特装版茉白あさ
 ひなブライト出版
LOCATION:
END:VEVENT
END:VCALENDAR
