BEGIN:VCALENDAR
VERSION:2.0
PRODID:-//chikkutakku.com//RDFCal 1.0//EN
X-WR-CALDESC:GoogleカレンダーやiCalendar形式情報を共有シェ
 アしましょう。近所のイベントから全国のイベントま
 で今日のイベント検索やスケジュールを決めるならち
 っくたっく
X-WR-CALNAME:ちっくたっく
X-WR-TIMEZONE:UTC
BEGIN:VEVENT
SUMMARY:【Android 対応】《切ない話特集》文ノ旅朗読団 第
 六十三夜 SPECIAL GUEST SPECIAL LIVE
DTSTART;VALUE=DATE-TIME:20260423T120000Z
DTEND;VALUE=DATE-TIME:20260423T140000Z
UID:260423713795
DESCRIPTION:【イベント主催者】\n　Metakazu\n【イベント内
 容】\n　― SPECIAL GUEST SPECIAL LIVE《切ない話特集》 ―\n主
 催肝入りのゲストがお気に入りの作品を紹介・朗読し
 ます。文ノ旅朗読団第六十三夜は《切ない話特集》。\n
 運命に翻弄されるために生まれてきた人びとがここに
 いる。涙を流しに、お越しください。\n朗読を聴いてた
 のしみたい、会場の星空をぼうっと眺めながら時間を
 つぶしたい、次に読む何かよい本はないか探している
 、という方はぜひお越しください。途中入退場自由、Qu
 est対応です。\n\n文ノ旅朗読団は木曜日不定期開催で「S
 PECIAL GUEST SPECIAL LIVE」を開催しています。毎回、テーマ
 を設定し、ゲストが紹介したい本を持ち寄り朗読しま
 す。読み手にも聴き手にもスペシャルなひとときをご
 提供差し上げたく取り組んでいます。\n\n＊VRChat初心者
 の方へ＊\n小規模でマイナーなイベントです。誰かと話
 したり輪に入ったりする必要がないので居場所が気に
 ならないはず。朗読にただ耳を傾けるだけ。無言でか
 まわないし、眠ってしまってもかまわない。イベント
 デビューに、ぜひ来てみてください。\n【イベントジャ
 ンル】\n　その他交流会\n【参加条件（モデル、人数制
 限など）】\n　切ない話の朗読を聴きたい方\n【参加方
 法】\n　会場はFriendプラスのインスタンスです。\n参加
 者にJoinしてください。\n主催者MetakazuにJoinするのが確
 実です。\nフレンドになっていない方は\n開催当日の20
 時までにフレンド申請してください。\nMetakazuへはこち
 らから。\nhttps://vrchat.com/home/user/usr_abbc927c-d6eb-4718-bd8e-cd1
 7ff2f6d42\n【備考】\n　【会場】\n星ト砂ノ朗読キャンプ
 ［JP］Star＆Sand Reading Camp\nhttps://vrchat.com/home/world/wrld_8834c
 93a-ebe1-4868-9e11-3d4d8448ab06/info\n※Quest対応　※スマートフ
 ォンには対応していません\n\n【詳しくはオフィシャル
 サイトへ】\nhttps://katariaoh.sorayori.com/fuminotabi/
LOCATION:
END:VEVENT
END:VCALENDAR
