BEGIN:VCALENDAR
VERSION:2.0
PRODID:-//chikkutakku.com//RDFCal 1.0//EN
X-WR-CALDESC:GoogleカレンダーやiCalendar形式情報を共有シェ
 アしましょう。近所のイベントから全国のイベントま
 で今日のイベント検索やスケジュールを決めるならち
 っくたっく
X-WR-CALNAME:ちっくたっく
X-WR-TIMEZONE:UTC
BEGIN:VEVENT
SUMMARY:Bath High School Interact Club
DTSTART;VALUE=DATE-TIME:20260504T160000Z
DTEND;VALUE=DATE-TIME:20260504T170000Z
UID:260538843961
DESCRIPTION:Bath High School Interact Club
LOCATION:Veterans Memorial Civic and Convention Center\, 7 Town Square\, L
 ima\, OH 45801\, USA
END:VEVENT
END:VCALENDAR
