BEGIN:VCALENDAR
VERSION:2.0
PRODID:-//chikkutakku.com//RDFCal 1.0//EN
X-WR-CALDESC:GoogleカレンダーやiCalendar形式情報を共有シェ
 アしましょう。近所のイベントから全国のイベントま
 で今日のイベント検索やスケジュールを決めるならち
 っくたっく
X-WR-CALNAME:ちっくたっく
X-WR-TIMEZONE:UTC
BEGIN:VEVENT
SUMMARY:【第6回】幽世夜市
DTSTART;VALUE=DATE-TIME:20260423T124500Z
DTEND;VALUE=DATE-TIME:20260423T140000Z
UID:261097082395
DESCRIPTION:【イベント主催者】\n　【狛胡】\n【イベント
 内容】\n　RPありの縁日風フリーローム型イベント！\n
 退屈な日常から、非日常へ\n今宵、現世から隔てられた
 世界、幽世(かくりよ)に足を踏み入れてみては？\n【イ
 ベントジャンル】\n　ロールプレイ\n【参加条件（モデ
 ル、人数制限など）】\n　・RPを楽しめる人\n・モラル
 ・マナーの遵守\n・アバター容量が40MB以下\n【参加方法
 】\n　21：45になったらグループ＋インスタンスにjoinし
 て下さい！\nグループはこちら(https://vrc.group/KKRY99.3574)\n
 【備考】\n　21:45～グループ＋インスタンス　join開始　
 \n21:50～説明やお話等\n22:00～:50　開場\n23:00　　　閉場\n
 \nhttps://x.com/kakuriyo_vrc
LOCATION:
END:VEVENT
END:VCALENDAR
