BEGIN:VCALENDAR
VERSION:2.0
PRODID:-//chikkutakku.com//RDFCal 1.0//EN
X-WR-CALDESC:GoogleカレンダーやiCalendar形式情報を共有シェ
 アしましょう。近所のイベントから全国のイベントま
 で今日のイベント検索やスケジュールを決めるならち
 っくたっく
X-WR-CALNAME:ちっくたっく
X-WR-TIMEZONE:UTC
BEGIN:VEVENT
SUMMARY:シンカリオン #4 「撃て!!シンカリオン E6こまち」
DTSTART;VALUE=DATE-TIME:20260424T103000Z
DTEND;VALUE=DATE-TIME:20260424T105700Z
UID:261159249583
DESCRIPTION:4 / 撃て!!シンカリオン E6こまち / 
LOCATION:TOKYO MX
END:VEVENT
END:VCALENDAR
