BEGIN:VCALENDAR
VERSION:2.0
PRODID:-//chikkutakku.com//RDFCal 1.0//EN
X-WR-CALDESC:GoogleカレンダーやiCalendar形式情報を共有シェ
 アしましょう。近所のイベントから全国のイベントま
 で今日のイベント検索やスケジュールを決めるならち
 っくたっく
X-WR-CALNAME:ちっくたっく
X-WR-TIMEZONE:UTC
BEGIN:VEVENT
SUMMARY:★TM U15★T12 全学年
DTSTART;VALUE=DATE:20260501
DTEND;VALUE=DATE:20260502
UID:261361792949
DESCRIPTION:★TM  U15\nJGREEN堺 Ｓ13に16:00集合\n17:00〜19:00\n35
 分✖️2本　30分✖️1本\n参加費\n🆚CAOS\n\n★T12  全学年\
 n豊中12中ナイターGにて19:00〜20:30\n駐車は近隣の有料🅿
 ️をご利用下さい。
LOCATION:
END:VEVENT
END:VCALENDAR
