BEGIN:VCALENDAR
VERSION:2.0
PRODID:-//chikkutakku.com//RDFCal 1.0//EN
X-WR-CALDESC:GoogleカレンダーやiCalendar形式情報を共有シェ
 アしましょう。近所のイベントから全国のイベントま
 で今日のイベント検索やスケジュールを決めるならち
 っくたっく
X-WR-CALNAME:ちっくたっく
X-WR-TIMEZONE:UTC
BEGIN:VEVENT
SUMMARY:ThREEさん　ｱｸｾｻﾘｰwork shop
DTSTART;VALUE=DATE:20260503
DTEND;VALUE=DATE:20260504
UID:262268003335
DESCRIPTION:〇「ThREEさんのアクリル絵の具を使って木のア
 クセサリー作り体験」①耳飾り（イヤリングorピアス）
 3800円②ヘアアクセサリー（ポニーフックorヘアゴム）30
 00円③ブローチ　3000円＊①～③全てThREEオリジナルBOX＆
 ラッピング付子どもさんが色を塗って、母の日のギフ
 トに...記念になるプレゼントにいかがですか？カラフ
 ルもシンプルもカッコいいも◎世界にひとつのアクセ
 サリーを作りましょう！対象年齢：6歳くらい～大人の
 方のみのご参加もOKです場所：DEPOT店内イベントスペー
 スくらす5月4日(月)11:00～（3組）13:00～（3組）14:00～（3
 組）★満席になり次第締切★お申込み​は　こちら​
 をクリックしてくださいね。
LOCATION:ギフト雑貨・木のおもちゃデポー（ＤＥＰＯＴ
 ）\, 日本、〒770-8051 徳島県徳島市沖浜町南開３３０−
 １
END:VEVENT
END:VCALENDAR
