BEGIN:VCALENDAR
VERSION:2.0
PRODID:-//chikkutakku.com//RDFCal 1.0//EN
X-WR-CALDESC:GoogleカレンダーやiCalendar形式情報を共有シェ
 アしましょう。近所のイベントから全国のイベントま
 で今日のイベント検索やスケジュールを決めるならち
 っくたっく
X-WR-CALNAME:ちっくたっく
X-WR-TIMEZONE:UTC
BEGIN:VEVENT
SUMMARY:Zimmerman Parade
DTSTART;VALUE=DATE:20260523
DTEND;VALUE=DATE:20260524
UID:262339261934
DESCRIPTION:wildwestdays.orgTENTATIVE: Schedule8:00 - rehearsal at ZHS 1
 1:00 - break (snack\, get into uniform) 11:45 - line up12:00 - parade beg
 ins2:00 (approx.) - dismissedYou need to bring... - Instrument- All unifo
 rm parts (vipers\, show shirt\, tall black socks\, black under armour) - 
 Anything else you need to perform! - A snack if you want to eat before th
 e parade- Water- Sunscreen
LOCATION:Zimmerman Middle High School\, 25900 4th St W\, Zimmerman\, MN 55
 398\, USA
END:VEVENT
END:VCALENDAR
