BEGIN:VCALENDAR
VERSION:2.0
PRODID:-//chikkutakku.com//RDFCal 1.0//EN
X-WR-CALDESC:GoogleカレンダーやiCalendar形式情報を共有シェ
 アしましょう。近所のイベントから全国のイベントま
 で今日のイベント検索やスケジュールを決めるならち
 っくたっく
X-WR-CALNAME:ちっくたっく
X-WR-TIMEZONE:UTC
BEGIN:VEVENT
SUMMARY:【Android 対応】第６３回　魔王社交界～グリモワ
 ール～　ファンタジー集会
DTSTART;VALUE=DATE-TIME:20260429T120000Z
DTEND;VALUE=DATE-TIME:20260429T130000Z
UID:262503777686
DESCRIPTION:【イベント主催者】\n　魔王 K\n【イベント内
 容】\n　ファンタジー系アバター集会\n【イベントジャ
 ンル】\n　改変アバター交流会\, その他交流会\, ロール
 プレイ\, 初心者向けイベント\n【参加条件（モデル、人
 数制限など）】\n　特にありません。ファンタジーな雰
 囲気な方であればどなたでもご参加いただけます。\n【
 参加方法】\n　当グループ（https://vrc.group/666.6159）のグ
 ループ＋インスタンスにて開催！\n【備考】\n　
LOCATION:
END:VEVENT
END:VCALENDAR
