BEGIN:VCALENDAR
VERSION:2.0
PRODID:-//chikkutakku.com//RDFCal 1.0//EN
X-WR-CALDESC:GoogleカレンダーやiCalendar形式情報を共有シェ
 アしましょう。近所のイベントから全国のイベントま
 で今日のイベント検索やスケジュールを決めるならち
 っくたっく
X-WR-CALNAME:ちっくたっく
X-WR-TIMEZONE:UTC
BEGIN:VEVENT
SUMMARY:保育ナビ 2026年6月号
DTSTART;VALUE=DATE:20260506
DTEND;VALUE=DATE:20260507
UID:262653445170
DESCRIPTION:2026-05-07保育ナビ 2026年6月号フレーベル館 保育
 図書 保育雑誌 編集委員会フレーベル館
LOCATION:
END:VEVENT
END:VCALENDAR
