BEGIN:VCALENDAR
VERSION:2.0
PRODID:-//chikkutakku.com//RDFCal 1.0//EN
X-WR-CALDESC:GoogleカレンダーやiCalendar形式情報を共有シェ
 アしましょう。近所のイベントから全国のイベントま
 で今日のイベント検索やスケジュールを決めるならち
 っくたっく
X-WR-CALNAME:ちっくたっく
X-WR-TIMEZONE:UTC
BEGIN:VEVENT
SUMMARY:まんがタイムきららMAX (マックス) 2026年 7月号 [雑
 誌]
DTSTART;VALUE=DATE:20260518
DTEND;VALUE=DATE:20260519
UID:263116858960
DESCRIPTION:2026-05-19まんがタイムきららMAX (マックス) 2026
 年 7月号 [雑誌]芳文社
LOCATION:
END:VEVENT
END:VCALENDAR
