BEGIN:VCALENDAR
VERSION:2.0
PRODID:-//chikkutakku.com//RDFCal 1.0//EN
X-WR-CALDESC:GoogleカレンダーやiCalendar形式情報を共有シェ
 アしましょう。近所のイベントから全国のイベントま
 で今日のイベント検索やスケジュールを決めるならち
 っくたっく
X-WR-CALNAME:ちっくたっく
X-WR-TIMEZONE:UTC
BEGIN:VEVENT
SUMMARY:根菜ス☆ツインドラムセッション@新中野 弁天
DTSTART;VALUE=DATE:20260519
DTEND;VALUE=DATE:20260520
UID:263618509661
DESCRIPTION:ニンジンとゴボーで根菜ス！\n19:00オープン\n¥
 2000＋オーダー\n集まり次第ボチボチと🥁🥁\n鈴木ゴボ
 ー(Dr)と井上ｲﾉﾔﾝ尚彦(Dr)\n全パート募集中❣
LOCATION:弁天\, 日本、〒164-0012 東京都中野区本町４丁目
 ３９−６ ＴＮビル ２F
END:VEVENT
END:VCALENDAR
