BEGIN:VCALENDAR
VERSION:2.0
PRODID:-//chikkutakku.com//RDFCal 1.0//EN
X-WR-CALDESC:GoogleカレンダーやiCalendar形式情報を共有シェ
 アしましょう。近所のイベントから全国のイベントま
 で今日のイベント検索やスケジュールを決めるならち
 っくたっく
X-WR-CALNAME:ちっくたっく
X-WR-TIMEZONE:UTC
BEGIN:VEVENT
SUMMARY:Volunteer Training_Introduction to Cycling Instruction
DTSTART;VALUE=DATE-TIME:20260505T150000Z
DTEND;VALUE=DATE-TIME:20260505T210000Z
UID:263716357358
DESCRIPTION:During this clinic\, you can expect to learn all about our roa
 d cycling program. We will dive into what to expect when volunteering on a
  cycling program\, responsibilities and flow of the day. We will talk abou
 t our different cycling locations we operate at\, the different bikes we h
 ave to offer\, as well as some bike skills we can teach our participants. 
 We will be spending time on different styles of bikes to get a better unde
 rstanding of how they ride and operate. A great way to get started with ou
 r cycling program and get a better understanding of our equipment and inst
 ructing.Experience: No experience needed\; This clinic is tailored towards
  first time volunteers or returning volunteers that are looking for an in 
 depth refresher on our road cycling program. If you have any questions\, f
 eel free to reach out to Stefan at training@asadurango.com.  
LOCATION:
END:VEVENT
END:VCALENDAR
