BEGIN:VCALENDAR
VERSION:2.0
PRODID:-//chikkutakku.com//RDFCal 1.0//EN
X-WR-CALDESC:GoogleカレンダーやiCalendar形式情報を共有シェ
 アしましょう。近所のイベントから全国のイベントま
 で今日のイベント検索やスケジュールを決めるならち
 っくたっく
X-WR-CALNAME:ちっくたっく
X-WR-TIMEZONE:UTC
BEGIN:VEVENT
SUMMARY:WOWOWライブ「京本大我　ハロー・トニー！2026＜後
 編＞」（京本大我）
DTSTART;VALUE=DATE-TIME:20260524T093000Z
DTEND;VALUE=DATE-TIME:20260524T100000Z
UID:263918423478
DESCRIPTION:https://www.wowow.co.jp/detail/206830
LOCATION:テレビ
END:VEVENT
END:VCALENDAR
