BEGIN:VCALENDAR
VERSION:2.0
PRODID:-//chikkutakku.com//RDFCal 1.0//EN
X-WR-CALDESC:GoogleカレンダーやiCalendar形式情報を共有シェ
 アしましょう。近所のイベントから全国のイベントま
 で今日のイベント検索やスケジュールを決めるならち
 っくたっく
X-WR-CALNAME:ちっくたっく
X-WR-TIMEZONE:UTC
BEGIN:VEVENT
SUMMARY:【KRD8】DOSH KYOTO
DTSTART;VALUE=DATE:20260424
DTEND;VALUE=DATE:20260425
UID:264248195746
DESCRIPTION:2026年4月25日(土)DOSH KYOTO会場：京都ROKA時間：開
 場12:30/開演13:00🎫チケット発売中 https://t-dv.com/doshkyoto
 お目当て特典あり🎁(物販レジで配布)※ TicketDiveの金額
 が3\,000円となっております。1ドリンク代込みの価格へ
 変更となっておりますので、ご了承ください。
LOCATION:京都ROKA
END:VEVENT
END:VCALENDAR
