BEGIN:VCALENDAR
VERSION:2.0
PRODID:-//chikkutakku.com//RDFCal 1.0//EN
X-WR-CALDESC:GoogleカレンダーやiCalendar形式情報を共有シェ
 アしましょう。近所のイベントから全国のイベントま
 で今日のイベント検索やスケジュールを決めるならち
 っくたっく
X-WR-CALNAME:ちっくたっく
X-WR-TIMEZONE:UTC
BEGIN:VEVENT
SUMMARY:Sunday Worship
DTSTART;VALUE=DATE-TIME:20260511T050000Z
DTEND;VALUE=DATE-TIME:20260511T050000Z
UID:264257272865
DESCRIPTION:Worship With UsAll are welcome when we gather together for pu
 blic worship by the reading and preaching of scripture\, prayer\, giving\,
  and singing.
LOCATION:208 Granville Dr\, Lebanon\, TN 37090\, USA
END:VEVENT
END:VCALENDAR
