BEGIN:VCALENDAR
VERSION:2.0
PRODID:-//chikkutakku.com//RDFCal 1.0//EN
X-WR-CALDESC:GoogleカレンダーやiCalendar形式情報を共有シェ
 アしましょう。近所のイベントから全国のイベントま
 で今日のイベント検索やスケジュールを決めるならち
 っくたっく
X-WR-CALNAME:ちっくたっく
X-WR-TIMEZONE:UTC
BEGIN:VEVENT
SUMMARY:田舎の中古物件に移住したら、なぜか幼女が住ん
 でいた〜ダンジョンと座敷わらし憑きの民泊はいかが
 ですか？〜（2）
DTSTART;VALUE=DATE:20260514
DTEND;VALUE=DATE:20260515
UID:264604681315
DESCRIPTION:2026-05-15田舎の中古物件に移住したら、なぜか
 幼女が住んでいた〜ダンジョンと座敷わらし憑きの民
 泊はいかがですか？〜（2）k-ing/п猫R株式会社アース・
 スター エンターテイメント
LOCATION:
END:VEVENT
END:VCALENDAR
