BEGIN:VCALENDAR
VERSION:2.0
PRODID:-//chikkutakku.com//RDFCal 1.0//EN
X-WR-CALDESC:GoogleカレンダーやiCalendar形式情報を共有シェ
 アしましょう。近所のイベントから全国のイベントま
 で今日のイベント検索やスケジュールを決めるならち
 っくたっく
X-WR-CALNAME:ちっくたっく
X-WR-TIMEZONE:UTC
BEGIN:VEVENT
SUMMARY:改訂新版 個人事業の始め方 開業、運営、経理、
 税金まですべてわかる！
DTSTART;VALUE=DATE:20260518
DTEND;VALUE=DATE:20260519
UID:264935537414
DESCRIPTION:2026-05-19改訂新版 個人事業の始め方 開業、運
 営、経理、税金まですべてわかる！中野裕哲西東社
LOCATION:
END:VEVENT
END:VCALENDAR
