BEGIN:VCALENDAR
VERSION:2.0
PRODID:-//chikkutakku.com//RDFCal 1.0//EN
X-WR-CALDESC:GoogleカレンダーやiCalendar形式情報を共有シェ
 アしましょう。近所のイベントから全国のイベントま
 で今日のイベント検索やスケジュールを決めるならち
 っくたっく
X-WR-CALNAME:ちっくたっく
X-WR-TIMEZONE:UTC
BEGIN:VEVENT
SUMMARY:(ยกเลิก) การประชุมคณะอนุ
 กรรมการขับเคลื่อนยุทธศาส
 ตร์ ชุดที่ 2 ครั้งที่ 8/2569
DTSTART;VALUE=DATE-TIME:20260422T060000Z
DTEND;VALUE=DATE-TIME:20260422T080000Z
UID:265436350290
DESCRIPTION: 
LOCATION:ณ ห้องประชุมพระยาศรีวิ
 สารวาจา
END:VEVENT
END:VCALENDAR
