BEGIN:VCALENDAR
VERSION:2.0
PRODID:-//chikkutakku.com//RDFCal 1.0//EN
X-WR-CALDESC:GoogleカレンダーやiCalendar形式情報を共有シェ
 アしましょう。近所のイベントから全国のイベントま
 で今日のイベント検索やスケジュールを決めるならち
 っくたっく
X-WR-CALNAME:ちっくたっく
X-WR-TIMEZONE:UTC
BEGIN:VEVENT
SUMMARY:無敵商人の異世界成り上がり物語 〜現代の製品
 を自在に取り寄せるスキルがあるので異世界では楽勝
 です〜 8
DTSTART;VALUE=DATE:20260426
DTEND;VALUE=DATE:20260427
UID:265715449901
DESCRIPTION:2026-04-27無敵商人の異世界成り上がり物語 〜現
 代の製品を自在に取り寄せるスキルがあるので異世界
 では楽勝です〜 8隆原 ヒロタ/青山 有/ぷきゅのすけKADOK
 AWA
LOCATION:
END:VEVENT
END:VCALENDAR
