BEGIN:VCALENDAR
VERSION:2.0
PRODID:-//chikkutakku.com//RDFCal 1.0//EN
X-WR-CALDESC:GoogleカレンダーやiCalendar形式情報を共有シェ
 アしましょう。近所のイベントから全国のイベントま
 で今日のイベント検索やスケジュールを決めるならち
 っくたっく
X-WR-CALNAME:ちっくたっく
X-WR-TIMEZONE:UTC
BEGIN:VEVENT
SUMMARY:甲府支援学校　お食事会場
DTSTART;VALUE=DATE-TIME:20260421T024500Z
DTEND;VALUE=DATE-TIME:20260421T024500Z
UID:266351352806
DESCRIPTION:
LOCATION:桜1・2 @ 山梨県南アルプス市飯野2971
END:VEVENT
END:VCALENDAR
