BEGIN:VCALENDAR
VERSION:2.0
PRODID:-//chikkutakku.com//RDFCal 1.0//EN
X-WR-CALDESC:GoogleカレンダーやiCalendar形式情報を共有シェ
 アしましょう。近所のイベントから全国のイベントま
 で今日のイベント検索やスケジュールを決めるならち
 っくたっく
X-WR-CALNAME:ちっくたっく
X-WR-TIMEZONE:UTC
BEGIN:VEVENT
SUMMARY:【Android 対応】無言勢キャストCafe クワイエット
DTSTART;VALUE=DATE-TIME:20260421T130000Z
DTEND;VALUE=DATE-TIME:20260421T140000Z
UID:266373447524
DESCRIPTION:【イベント主催者】\n　狐ノ巳(konomi)\n【イベ
 ント内容】\n　選りすぐりの無言勢が、ペンやムーブで
 接客します！ お客様は普通に話してもよし、一緒に静
 かにすごしてもよし 無言勢の強みを生かしたカフェイ
 ベント、来てみませんか？\n　ご来店、お待ちしており
 ます♪\n【イベントジャンル】\n　店舗系イベント\, 定
 期イベント\n【参加条件（モデル、人数制限など）】\n
 　違法・過度な身長・パーティクルのアバターはお控
 えください。負荷軽減のため、できるだけ軽量・クエ
 スト対応のアバターでお願いします。\n　\n【参加方法
 】\n　第一インスタンス：[狐ノ巳（konomi）]　第二イン
 スタンス[悠木ゆうき]　にフレンド申請して、時間にな
 ったらJoin。入店後は空いているお好きな席へお掛けく
 ださい。\n　※初めての方は、5分前の21:55からリクエス
 トインバイトにて優先的にご入店いただけます。\n【備
 考】\n　https://vrchat.com/home/user/usr_f80c0095-d6c9-4619-afb2-790a3e
 8fd730
LOCATION:
END:VEVENT
END:VCALENDAR
