BEGIN:VCALENDAR
VERSION:2.0
PRODID:-//chikkutakku.com//RDFCal 1.0//EN
X-WR-CALDESC:GoogleカレンダーやiCalendar形式情報を共有シェ
 アしましょう。近所のイベントから全国のイベントま
 で今日のイベント検索やスケジュールを決めるならち
 っくたっく
X-WR-CALNAME:ちっくたっく
X-WR-TIMEZONE:UTC
BEGIN:VEVENT
SUMMARY:エナジー風呂【アナログ盤】
DTSTART;VALUE=DATE:20260425
DTEND;VALUE=DATE:20260426
UID:266387839839
DESCRIPTION:2026-04-26エナジー風呂【アナログ盤】U-zhaan & Ryu
 ichi Sakamoto feat.環ROY×鎮座DOPENESSエイベックス・ミュージ
 ック・クリエイティヴ(株)
LOCATION:
END:VEVENT
END:VCALENDAR
