BEGIN:VCALENDAR
VERSION:2.0
PRODID:-//chikkutakku.com//RDFCal 1.0//EN
X-WR-CALDESC:GoogleカレンダーやiCalendar形式情報を共有シェ
 アしましょう。近所のイベントから全国のイベントま
 で今日のイベント検索やスケジュールを決めるならち
 っくたっく
X-WR-CALNAME:ちっくたっく
X-WR-TIMEZONE:UTC
BEGIN:VEVENT
SUMMARY:定年前後の手続きガイド 2026年版
DTSTART;VALUE=DATE:20260429
DTEND;VALUE=DATE:20260430
UID:267509783251
DESCRIPTION:2026-04-30定年前後の手続きガイド 2026年版中島 
 典子/長尾 義弘宝島社
LOCATION:
END:VEVENT
END:VCALENDAR
