BEGIN:VCALENDAR
VERSION:2.0
PRODID:-//chikkutakku.com//RDFCal 1.0//EN
X-WR-CALDESC:GoogleカレンダーやiCalendar形式情報を共有シェ
 アしましょう。近所のイベントから全国のイベントま
 で今日のイベント検索やスケジュールを決めるならち
 っくたっく
X-WR-CALNAME:ちっくたっく
X-WR-TIMEZONE:UTC
BEGIN:VEVENT
SUMMARY:カッティングマシン集会
DTSTART;VALUE=DATE-TIME:20260422T130000Z
DTEND;VALUE=DATE-TIME:20260422T140000Z
UID:268061085398
DESCRIPTION:【イベント主催者】\n　zatoqzilla\n【イベント内
 容】\n　カッティングマシンなど情報共有。持ってなく
 ても興味ある人OK\n【イベントジャンル】\n　その他交
 流会\, 定期イベント\n【参加条件（モデル、人数制限な
 ど）】\n　\n【参加方法】\n　https://vrc.group/CUTMAC.4174\n【
 備考】\n　
LOCATION:
END:VEVENT
END:VCALENDAR
