BEGIN:VCALENDAR
VERSION:2.0
PRODID:-//chikkutakku.com//RDFCal 1.0//EN
X-WR-CALDESC:GoogleカレンダーやiCalendar形式情報を共有シェ
 アしましょう。近所のイベントから全国のイベントま
 で今日のイベント検索やスケジュールを決めるならち
 っくたっく
X-WR-CALNAME:ちっくたっく
X-WR-TIMEZONE:UTC
BEGIN:VEVENT
SUMMARY:RUGBY | League Fixture vs Sir Lowry's Pass (Home)
DTSTART;VALUE=DATE-TIME:20260422T113000Z
DTEND;VALUE=DATE-TIME:20260422T144500Z
UID:268083463074
DESCRIPTION:RUGBY | League Fixture vs Sir Lowry's Pass (Home)
LOCATION:Vineyard Field
END:VEVENT
END:VCALENDAR
