BEGIN:VCALENDAR
VERSION:2.0
PRODID:-//chikkutakku.com//RDFCal 1.0//EN
X-WR-CALDESC:GoogleカレンダーやiCalendar形式情報を共有シェ
 アしましょう。近所のイベントから全国のイベントま
 で今日のイベント検索やスケジュールを決めるならち
 っくたっく
X-WR-CALNAME:ちっくたっく
X-WR-TIMEZONE:UTC
BEGIN:VEVENT
SUMMARY:大阪税関コラボイベント「まもろう！地球の仲間
 たち　～密輸から生き物たちをすくえ！～」
DTSTART;VALUE=DATE-TIME:20260425T010000Z
DTEND;VALUE=DATE-TIME:20260425T073000Z
UID:268312737100
DESCRIPTION:昨年に引き続き、「野生動植物の密輸防止」
 のさらなる周知・啓発を図るため、「野生動物の保護
 ・種の保存」を目的のひとつしている当園と大阪税関
 とでコラボイベントを実施することとなりました。は
 く製やパネルの展示、経済産業省職員と天王寺動物園
 のワシントン条約に関するコラボ講話など、学びの多
 いイベントとなっております。さらに今年は、大阪税
 関・神戸税関合同音楽隊の演奏も実施します。また、
 大阪税関キャラクター「カスタム君」や天王寺動物園
 オリジナルゆるキャラ「ゴーゴ君」によるＰＲも実施
 します。詳細はこちら
LOCATION:
END:VEVENT
END:VCALENDAR
