BEGIN:VCALENDAR
VERSION:2.0
PRODID:-//chikkutakku.com//RDFCal 1.0//EN
X-WR-CALDESC:GoogleカレンダーやiCalendar形式情報を共有シェ
 アしましょう。近所のイベントから全国のイベントま
 で今日のイベント検索やスケジュールを決めるならち
 っくたっく
X-WR-CALNAME:ちっくたっく
X-WR-TIMEZONE:UTC
BEGIN:VEVENT
SUMMARY:ประชุมกลุ่มย่อยคณะทำงา
 นจัดทำแผนพัฒนาการศึกษามห
 าวิทยาลัยเชียงใหม่ ระยะที
 ่ 14 (พ.ศ.2571-2575) กลุ่ม SO2 : สร้างนวั
 ตกรรมแบบมีส่วนร่วม ด้าน Health
  & Wellness 
DTSTART;VALUE=DATE-TIME:20260422T060000Z
DTEND;VALUE=DATE-TIME:20260422T070000Z
UID:268396193105
DESCRIPTION:https://cmu-th.zoom.us/j/9138586711?omn=98306141836\n\nMeeting
  ID: 913 858 6711\n\nรองฯ วินิตา\nผู้ช่ว
 ยฯ อดิศักดิ์\nผู้ช่วยฯ รณภพ\
 nผู้ช่วยฯ เอกสิทธิ์\nหมอแชม
 ป์\nหมอสุรัตน์\nอ.จักรพงษ์\n\n
 จิณณ์ณิชา\nอนุชิต\nวรินธร\nป
 ภาวิน
LOCATION:
END:VEVENT
END:VCALENDAR
