BEGIN:VCALENDAR
VERSION:2.0
PRODID:-//chikkutakku.com//RDFCal 1.0//EN
X-WR-CALDESC:GoogleカレンダーやiCalendar形式情報を共有シェ
 アしましょう。近所のイベントから全国のイベントま
 で今日のイベント検索やスケジュールを決めるならち
 っくたっく
X-WR-CALNAME:ちっくたっく
X-WR-TIMEZONE:UTC
BEGIN:VEVENT
SUMMARY:保育原理
DTSTART;VALUE=DATE-TIME:20260422T234000Z
DTEND;VALUE=DATE-TIME:20260423T011000Z
UID:268779773287
DESCRIPTION:(上村) 301
LOCATION:
END:VEVENT
END:VCALENDAR
