BEGIN:VCALENDAR
VERSION:2.0
PRODID:-//chikkutakku.com//RDFCal 1.0//EN
X-WR-CALDESC:GoogleカレンダーやiCalendar形式情報を共有シェ
 アしましょう。近所のイベントから全国のイベントま
 で今日のイベント検索やスケジュールを決めるならち
 っくたっく
X-WR-CALNAME:ちっくたっく
X-WR-TIMEZONE:UTC
BEGIN:VEVENT
SUMMARY:外語二年級參訪-4/24(五)早上8點出發
DTSTART;VALUE=DATE-TIME:20260423T235000Z
DTEND;VALUE=DATE-TIME:20260424T000000Z
UID:268799588487
DESCRIPTION:集合時間: 4月24日(星期五)上午7點50分升旗台集
 合出發時間: 4月24日(星期五)上午8點出發參訪地點: 雲林
 科技大學、逢甲大學參加人數: 學生80人，老師2人帶隊老
 師: 張嘉芳、陳妍秀  老師遊覽車共2台全省KAB-6018 丁先
 生 0919-028370全省KAB-9838 鄭先生 0966-980186\n\n通过 Google Meet 
 加入：https://meet.google.com/hox-reqj-uve\n或者拨打以下号码：
 (US) +1 513-468-1079 PIN 码： 658464496#\n\n如需详细了解 Google Me
 et，请访问：https://support.google.com/a/users/answer/9282720
LOCATION:升旗台前
END:VEVENT
END:VCALENDAR
