BEGIN:VCALENDAR
VERSION:2.0
PRODID:-//chikkutakku.com//RDFCal 1.0//EN
X-WR-CALDESC:GoogleカレンダーやiCalendar形式情報を共有シェ
 アしましょう。近所のイベントから全国のイベントま
 で今日のイベント検索やスケジュールを決めるならち
 っくたっく
X-WR-CALNAME:ちっくたっく
X-WR-TIMEZONE:UTC
BEGIN:VEVENT
SUMMARY:2026 Small HS Prom (Juniors and Seniors only)
DTSTART;VALUE=DATE-TIME:20260425T020000Z
DTEND;VALUE=DATE-TIME:20260425T060000Z
UID:270013165228
DESCRIPTION:The theme is "A Night in Venice." Doors open at 7:00pm. Doors 
 close at 8:30pm with NO in-out privileges. Event ends at 11pm. Prompt pick
 -up appreciated.
LOCATION:Dante Club\, 2330 Fair Oaks Blvd\, Sacramento\, CA 95825\, USA
END:VEVENT
END:VCALENDAR
