BEGIN:VCALENDAR
VERSION:2.0
PRODID:-//chikkutakku.com//RDFCal 1.0//EN
X-WR-CALDESC:GoogleカレンダーやiCalendar形式情報を共有シェ
 アしましょう。近所のイベントから全国のイベントま
 で今日のイベント検索やスケジュールを決めるならち
 っくたっく
X-WR-CALNAME:ちっくたっく
X-WR-TIMEZONE:UTC
BEGIN:VEVENT
SUMMARY:Auckland-Manukau Dressage Gp
DTSTART;VALUE=DATE:20260424
DTEND;VALUE=DATE:20260426
UID:270057797490
DESCRIPTION:AMDG Amateur Young Rider and Pony Championships - Category = L
 ocal - Email = amdgsportmanager@gmail.com
LOCATION:Clevedon A&P Showgrounds
END:VEVENT
END:VCALENDAR
