BEGIN:VCALENDAR
VERSION:2.0
PRODID:-//chikkutakku.com//RDFCal 1.0//EN
X-WR-CALDESC:GoogleカレンダーやiCalendar形式情報を共有シェ
 アしましょう。近所のイベントから全国のイベントま
 で今日のイベント検索やスケジュールを決めるならち
 っくたっく
X-WR-CALNAME:ちっくたっく
X-WR-TIMEZONE:UTC
BEGIN:VEVENT
SUMMARY:【初心者の方歓迎♪】カフェ キャッツテール
DTSTART;VALUE=DATE-TIME:20260421T120000Z
DTEND;VALUE=DATE-TIME:20260421T130000Z
UID:270567784029
DESCRIPTION:【イベント主催者】\n　紗英-sae0214\n【イベン
 ト内容】\n　【出入り自由】\n平日毎日21時～22時まで営
 業している小さなメイドカフェです。\nお話したり作業
 したり、心ゆくままのんびりお過ごし下さい♪\n【イベ
 ントジャンル】\n　その他交流会\, 店舗系イベント\, ロ
 ールプレイ\, 初心者向けイベント\, 定期イベント\n【参
 加条件（モデル、人数制限など）】\n　以下の使用をご
 遠慮お願い致します\n・センシティブなアバター\n・武
 器や派手なパーティクル\n・音の出るアバターギミック
 \n【参加方法】\n　『Tailmaite』というGroupに参加するか
 、主催者(紗英-sae0214)にフレンド申請を送り、21時にな
 りましたら「入る」でご参加下さい。\n時々遅れたりお
 休みになる時がありますのでX(@oniku_umai_na)をチェックし
 て頂けると嬉しいです。\n【備考】\n　ハッシュタグ【#
 VRCキャッツテール】でXから雰囲気をご覧いただけます
 ！
LOCATION:
END:VEVENT
END:VCALENDAR
