BEGIN:VCALENDAR
VERSION:2.0
PRODID:-//chikkutakku.com//RDFCal 1.0//EN
X-WR-CALDESC:GoogleカレンダーやiCalendar形式情報を共有シェ
 アしましょう。近所のイベントから全国のイベントま
 で今日のイベント検索やスケジュールを決めるならち
 っくたっく
X-WR-CALNAME:ちっくたっく
X-WR-TIMEZONE:UTC
BEGIN:VEVENT
SUMMARY:Microsoft 月例セキュリティ更新プログラム
DTSTART;VALUE=DATE:20260512
DTEND;VALUE=DATE:20260513
UID:270654139605
DESCRIPTION:https://www.microsoft.com/en-us/msrc/blog/category?cat=Japan%2
 0Security%20Team
LOCATION:
END:VEVENT
END:VCALENDAR
