BEGIN:VCALENDAR
VERSION:2.0
PRODID:-//chikkutakku.com//RDFCal 1.0//EN
X-WR-CALDESC:GoogleカレンダーやiCalendar形式情報を共有シェ
 アしましょう。近所のイベントから全国のイベントま
 で今日のイベント検索やスケジュールを決めるならち
 っくたっく
X-WR-CALNAME:ちっくたっく
X-WR-TIMEZONE:UTC
BEGIN:VEVENT
SUMMARY:【犬カフェ 和室接客】ゆうゆうもちかふぇ〜い
 ぬいぬだらけの犬カフェ〜本営業
DTSTART;VALUE=DATE-TIME:20260504T131000Z
DTEND;VALUE=DATE-TIME:20260504T141500Z
UID:270924115727
DESCRIPTION:【イベント主催者】\n　七つの天狗-天乃\n【イ
 ベント内容】\n　キャスト全員がいぬいぬ！\n一生懸命
 接客をしてくれる犬カフェモチーフの接客型イベント
 です！\n\n和の雰囲気を感じられる、趣深いお店のお部
 屋で2～3匹のいぬいぬたちが、元気にもちもちゆるゆる
 と、遊びに来た『おにんげんさん』たちをおもてなし
 します♪\n各お部屋の内装もそれぞれテーマがあり、そ
 れに合わせたびっくりギミックも...！？\n\nかっこいい
 兜が飾られてる…！！\nこどもの日を祝って、今年もス
 クスク健やかにいぬいぬたちが成長しますよう、大き
 な鯉のぼりも飾られているゆゆもちかふぇ！\n\n賑やな
 癒しとともに楽しい1週間をぼくたちとあそぼ(U`•ω•´
 U)ﾜﾝ \n\n【イベントジャンル】\n　店舗系イベント\, 
 ロールプレイ\, 初心者向けイベント\, 定期イベント\n【
 参加条件（モデル、人数制限など）】\n　・アバター容
 量40面接MB\n・アバター身長1.00～1.60\n・版権アバターやR
 18アバターの使用は\n禁止\n・キャストと混同するため
 営業中のいぬいぬアバターのご使用はお控えください
 。\n詳しくはイベント開始時にご説明いたします。\n【
 参加方法】\n　グループインスタンスにて開催致します
 ので、お時間になりましたらお入りください。\n\n途中
 参加の方は、スタッフが着き次第ご案内致しますので
 入口でお待ちください。\n\n途中退出の場合、イベント
 進行や他のお客様のご迷惑となりますので、極力お控
 えください。\nやむを得ない場合はご案内致しますので
 、スタッフにお伝えください。\n\n落ちてしまった方に
 関しては、こちらで把握しておりますので、戻って来
 れそうでしたらスタッフが来るまで入口でお待ちくだ
 さい。\n【備考】\n　【グループURL】\nhttps://vrchat.com/home
 /group/grp_1a6ca4cb-bc8b-481f-9952-1db45c0ca704
LOCATION:
END:VEVENT
END:VCALENDAR
