BEGIN:VCALENDAR
VERSION:2.0
PRODID:-//chikkutakku.com//RDFCal 1.0//EN
X-WR-CALDESC:GoogleカレンダーやiCalendar形式情報を共有シェ
 アしましょう。近所のイベントから全国のイベントま
 で今日のイベント検索やスケジュールを決めるならち
 っくたっく
X-WR-CALNAME:ちっくたっく
X-WR-TIMEZONE:UTC
BEGIN:VEVENT
SUMMARY:ポンコツ風紀委員とスカート丈が不適切なJKの話 
 #3 「ポンコツと親しげな上級生ギャルの話／ポンコツ
 が通う高校の生徒会の話」
DTSTART;VALUE=DATE-TIME:20260420T142400Z
DTEND;VALUE=DATE-TIME:20260420T145400Z
UID:271161011393
DESCRIPTION:3 / ポンコツと親しげな上級生ギャルの話／ポ
 ンコツが通う高校の生徒会の話 / 
LOCATION:BS朝日
END:VEVENT
END:VCALENDAR
