BEGIN:VCALENDAR
VERSION:2.0
PRODID:-//chikkutakku.com//RDFCal 1.0//EN
X-WR-CALDESC:GoogleカレンダーやiCalendar形式情報を共有シェ
 アしましょう。近所のイベントから全国のイベントま
 で今日のイベント検索やスケジュールを決めるならち
 っくたっく
X-WR-CALNAME:ちっくたっく
X-WR-TIMEZONE:UTC
BEGIN:VEVENT
SUMMARY:【Android 対応】朝活カフェ『ことりのこのみ』｜
 静かめ・無言OK・作業歓迎
DTSTART;VALUE=DATE-TIME:20260422T000000Z
DTEND;VALUE=DATE-TIME:20260422T013000Z
UID:271348394251
DESCRIPTION:【イベント主催者】\n　mojiron\n【イベント内容
 】\n　ゆっくり始まる朝の時間に、静かに過ごせるカフ
 ェを開いています。\n無言OK・作業歓迎・ゆるい雑談も
 できる、まったりした空間です。\n\n読書や作業をした
 り、ぼーっとしたり、気が向いたら少しお話したり。\n
 それぞれの「好み」でお過ごしください。\n\nはじめて
 の方や様子見の方も大歓迎です。\n途中参加・途中退出
 OK。お気軽にどうぞ。\n\n■開催時間\n9:00〜10:30\n\n※静
 かめの雰囲気を大切にしています。無言でのご参加も
 歓迎です。\n【イベントジャンル】\n　その他交流会\, 
 店舗系イベント\, 初心者向けイベント\n【参加条件（モ
 デル、人数制限など）】\n　ゆるい読書会のグループ「
 KOTORI.3193」のグループパブリックで開催しているのでど
 なた様でもお越しいただけます　https://vrc.group/KOTORI.3193
 \n【参加方法】\n　時間になったら「 https://vrchat.com/home/
 world/wrld_969be9c0-00ff-4c50-8a27-f45f2ee3ecc8」のグループパブリ
 ックインスタンスにjoin\n【備考】\n　質問など何かあり
 ましたら主催（mojiron）のX（＠ishikndwao）まで
LOCATION:
END:VEVENT
END:VCALENDAR
