BEGIN:VCALENDAR
VERSION:2.0
PRODID:-//chikkutakku.com//RDFCal 1.0//EN
X-WR-CALDESC:GoogleカレンダーやiCalendar形式情報を共有シェ
 アしましょう。近所のイベントから全国のイベントま
 で今日のイベント検索やスケジュールを決めるならち
 っくたっく
X-WR-CALNAME:ちっくたっく
X-WR-TIMEZONE:UTC
BEGIN:VEVENT
SUMMARY:【ガイド付き】キャンプワールドツアー
DTSTART;VALUE=DATE-TIME:20260425T130000Z
DTEND;VALUE=DATE-TIME:20260425T140000Z
UID:271774336233
DESCRIPTION:【イベント主催者】\n　Virtual Campers\n【イベン
 ト内容】\n　ガイドスタッフと一緒にキャンプワールド
 を巡り、様々なシチュエーションでのキャンプが楽し
 めるイベントです。\n今回はキャンプ飯や島めぐり、焚
 火などをみんなで楽しむ予定です。\n今人気のキャンプ
 ワールドにも行きますよ♪\nフレンドさんを誘ってぜひ
 遊びに来てください！\n【イベントジャンル】\n　その
 他交流会\, 初心者向けイベント\n【参加条件（モデル、
 人数制限など）】\n　16人\n【参加方法】\n　VRCグループ
 「Virtual Campers」に参加。\n22時になったらグループイン
 スタンスにジョインしてください。\n【備考】\n　https:/
 /x.com/virtualcampers/status/2047287331175186881?s=20
LOCATION:
END:VEVENT
END:VCALENDAR
