BEGIN:VCALENDAR
VERSION:2.0
PRODID:-//chikkutakku.com//RDFCal 1.0//EN
X-WR-CALDESC:GoogleカレンダーやiCalendar形式情報を共有シェ
 アしましょう。近所のイベントから全国のイベントま
 で今日のイベント検索やスケジュールを決めるならち
 っくたっく
X-WR-CALNAME:ちっくたっく
X-WR-TIMEZONE:UTC
BEGIN:VEVENT
SUMMARY:Hallelujah -ハレルヤ-
DTSTART;VALUE=DATE-TIME:20260424T130000Z
DTEND;VALUE=DATE-TIME:20260424T140000Z
UID:272987114433
DESCRIPTION:【イベント主催者】\n　Hall@はる\n【イベント
 内容】\n　金曜日はバー、日曜日はカフェとして営業し
 ている接客型イベント。\n【イベントジャンル】\n　VR
 飲み会\, 初心者向けイベント\n【参加条件（モデル、人
 数制限など）】\n　参加人数は当日出勤スタッフの人数
 によって変動します。\nアバターは50MB以下、利用規約
 に反していないものに限ります。\n日本語話者のみ。過
 度なパーティクル・ギミックの使用禁止。\nその他詳細
 はXの投稿、又はワールド入口の規約を参照。\n\n【参加
 方法】\n　公式グループへ参加し、開催時刻にグループ
 +インスタンスへJOIN。\nhttps://vrchat.com/home/group/grp_7815d4f8-
 bf98-44e2-afba-3a6f2a4ec17d\n\n\n【備考】\n　最終金曜日は飲み
 インスタンス化！DJも来る予定だよ！！
LOCATION:
END:VEVENT
END:VCALENDAR
