BEGIN:VCALENDAR
VERSION:2.0
PRODID:-//chikkutakku.com//RDFCal 1.0//EN
X-WR-CALDESC:GoogleカレンダーやiCalendar形式情報を共有シェ
 アしましょう。近所のイベントから全国のイベントま
 で今日のイベント検索やスケジュールを決めるならち
 っくたっく
X-WR-CALNAME:ちっくたっく
X-WR-TIMEZONE:UTC
BEGIN:VEVENT
SUMMARY:4/23【線上】 公司財稅處理常見問題實務解析
DTSTART;VALUE=DATE-TIME:20260422T160000Z
DTEND;VALUE=DATE-TIME:20260423T155959Z
UID:272990681590
DESCRIPTION:4/23【線上】 公司財稅處理常見問題實務解析
LOCATION:
END:VEVENT
END:VCALENDAR
