BEGIN:VCALENDAR
VERSION:2.0
PRODID:-//chikkutakku.com//RDFCal 1.0//EN
X-WR-CALDESC:GoogleカレンダーやiCalendar形式情報を共有シェ
 アしましょう。近所のイベントから全国のイベントま
 で今日のイベント検索やスケジュールを決めるならち
 っくたっく
X-WR-CALNAME:ちっくたっく
X-WR-TIMEZONE:UTC
BEGIN:VEVENT
SUMMARY:田中邦和+石原雄治
DTSTART;VALUE=DATE:20260513
DTEND;VALUE=DATE:20260514
UID:273340398612
DESCRIPTION:open 19:30 / start 20:00\n出演:\n石原雄治 drum\n田中
 邦和 sax\n料金:\n1000〜3000円\n\nこのデュオで2回目のペル
 ミアンです。\n響きが独特で中々面白いサウンドになっ
 ております。
LOCATION:不動前Permian【関東】
END:VEVENT
END:VCALENDAR
