BEGIN:VCALENDAR
VERSION:2.0
PRODID:-//chikkutakku.com//RDFCal 1.0//EN
X-WR-CALDESC:GoogleカレンダーやiCalendar形式情報を共有シェ
 アしましょう。近所のイベントから全国のイベントま
 で今日のイベント検索やスケジュールを決めるならち
 っくたっく
X-WR-CALNAME:ちっくたっく
X-WR-TIMEZONE:UTC
BEGIN:VEVENT
SUMMARY:居酒屋「悪だくみ」 第2営業日
DTSTART;VALUE=DATE-TIME:20260425T130000Z
DTEND;VALUE=DATE-TIME:20260425T140000Z
UID:273405213054
DESCRIPTION:【イベント主催者】\n　治安の悪い女集会\n【
 イベント内容】\n　あの裏通りの奥の奥、酒と思想が渦
 巻く夜の裏口へようこそ。\n「治安は悪いが、居心地は
 いい。」\n 常連さんが入り浸る、賑やかな居酒屋は今
 日も元気に営業中。\n\n 皆様の「悪だくみ」にお付き合
 いできる夜を、心よりお待ちしております。\n【イベン
 トジャンル】\n　店舗系イベント\, 定期イベント\n【参
 加条件（モデル、人数制限など）】\n　お客様のアバタ
 ーはDLサイズ40MB以下までとする\n過度なパーティクル、
 音の出るアバター禁止\nおさわりは、原則NG（キャスト
 から言った場合のみOK）\nストーカー行為の禁止\nフレ
 ンド申請の禁止、個別に連絡を取る、居場所を追う行
 為等\n【参加方法】\n　グループインスタンスへJoin（htt
 ps://vrc.group/UNSAFE.4017）\n【備考】\n　
LOCATION:
END:VEVENT
END:VCALENDAR
