BEGIN:VCALENDAR
VERSION:2.0
PRODID:-//chikkutakku.com//RDFCal 1.0//EN
X-WR-CALDESC:GoogleカレンダーやiCalendar形式情報を共有シェ
 アしましょう。近所のイベントから全国のイベントま
 で今日のイベント検索やスケジュールを決めるならち
 っくたっく
X-WR-CALNAME:ちっくたっく
X-WR-TIMEZONE:UTC
BEGIN:VEVENT
SUMMARY:聖霊降臨 祭日のミサ（宇部）
DTSTART;VALUE=DATE-TIME:20260524T000000Z
DTEND;VALUE=DATE-TIME:20260524T010000Z
UID:273499866516
DESCRIPTION:聖霊降臨 祭日のミサ（宇部）
LOCATION:カトリック宇部教会\, 日本、〒755-0033 山口県宇
 部市琴芝町１丁目１−５９
END:VEVENT
END:VCALENDAR
