BEGIN:VCALENDAR
VERSION:2.0
PRODID:-//chikkutakku.com//RDFCal 1.0//EN
X-WR-CALDESC:GoogleカレンダーやiCalendar形式情報を共有シェ
 アしましょう。近所のイベントから全国のイベントま
 で今日のイベント検索やスケジュールを決めるならち
 っくたっく
X-WR-CALNAME:ちっくたっく
X-WR-TIMEZONE:UTC
BEGIN:VEVENT
SUMMARY:Co-op General Meeting
DTSTART;VALUE=DATE-TIME:20260422T233000Z
DTEND;VALUE=DATE-TIME:20260423T020000Z
UID:273533428361
DESCRIPTION:BARRETT COMPLEX\nAshley Schepens\n\n通过 Google Meet 加入
 ：https://meet.google.com/crn-pyxr-zxm\n\n如需详细了解 Google Meet
 ，请访问：https://support.google.com/a/users/answer/9282720
LOCATION:
END:VEVENT
END:VCALENDAR
