BEGIN:VCALENDAR
VERSION:2.0
PRODID:-//chikkutakku.com//RDFCal 1.0//EN
X-WR-CALDESC:GoogleカレンダーやiCalendar形式情報を共有シェ
 アしましょう。近所のイベントから全国のイベントま
 で今日のイベント検索やスケジュールを決めるならち
 っくたっく
X-WR-CALNAME:ちっくたっく
X-WR-TIMEZONE:UTC
BEGIN:VEVENT
SUMMARY:レジストラー・ブックス175 改訂第二版 設題解説 
 戸籍実務の処理Ⅷ入籍・分籍・国籍の得喪編
DTSTART;VALUE=DATE:20260520
DTEND;VALUE=DATE:20260521
UID:273749299523
DESCRIPTION:2026-05-21レジストラー・ブックス175 改訂第二版
  設題解説 戸籍実務の処理Ⅷ入籍・分籍・国籍の得喪編
 日本加除出版（株）
LOCATION:
END:VEVENT
END:VCALENDAR
