BEGIN:VCALENDAR
VERSION:2.0
PRODID:-//chikkutakku.com//RDFCal 1.0//EN
X-WR-CALDESC:GoogleカレンダーやiCalendar形式情報を共有シェ
 アしましょう。近所のイベントから全国のイベントま
 で今日のイベント検索やスケジュールを決めるならち
 っくたっく
X-WR-CALNAME:ちっくたっく
X-WR-TIMEZONE:UTC
BEGIN:VEVENT
SUMMARY:【Android 対応】VRCブルアカ集会！～7th PV鑑賞会！P
 art1～
DTSTART;VALUE=DATE-TIME:20260423T120000Z
DTEND;VALUE=DATE-TIME:20260423T130000Z
UID:273876988545
DESCRIPTION:【イベント主催者】\n　rita 08\n【イベント内容
 】\n　オデュッセイアの生徒や私服リン、消えた連邦生
 徒会長に新しい?連邦生徒会長の存在。\n謎だらけの7th P
 Vを1時間かけてゆっくり見ていきます！\n【イベントジ
 ャンル】\n　その他交流会\, 初心者向けイベント\, 定期
 イベント\n【参加条件（モデル、人数制限など）】\n　[
 インスタンス上限]\n最大35名まで\n【参加方法】\n　VRC
 ブルアカ集会！(https://vrc.group/VRBLAC.3432)のグループに参
 加し、20:55頃開場されるグループインスタンスへ入室を
 お願いします！\n途中参加も歓迎です！\n【備考】\n　VR
 Cブルアカ集会！は毎週木曜日と日曜日の21時から活動
 中！
LOCATION:
END:VEVENT
END:VCALENDAR
