BEGIN:VCALENDAR
VERSION:2.0
PRODID:-//chikkutakku.com//RDFCal 1.0//EN
X-WR-CALDESC:GoogleカレンダーやiCalendar形式情報を共有シェ
 アしましょう。近所のイベントから全国のイベントま
 で今日のイベント検索やスケジュールを決めるならち
 っくたっく
X-WR-CALNAME:ちっくたっく
X-WR-TIMEZONE:UTC
BEGIN:VEVENT
SUMMARY:【注】ザ☆ウルトラマン #21 これがウルトラの星
 だ!!第3部 / #22 南海の怪しい空間 / #23 超音速の対決 / #24
  ふたりのムツミ隊員 / #25 悪魔の花園 / #26 地球最大の
 危機!! / #27 怪獣島浮上!! / #28 新キャップが来た!! / #29 
 悪魔のUFO大襲来 / #30 動きだした巨大化石
DTSTART;VALUE=DATE-TIME:20260421T190000Z
DTEND;VALUE=DATE-TIME:20260422T000000Z
UID:274298413305
DESCRIPTION: / #21 これがウルトラの星だ!!第3部 / #22 南海の
 怪しい空間 / #23 超音速の対決 / #24 ふたりのムツミ隊員
  / #25 悪魔の花園 / #26 地球最大の危機!! / #27 怪獣島浮上
 !! / #28 新キャップが来た!! / #29 悪魔のUFO大襲来 / #30 動
 きだした巨大化石 / ([[ファミリーアニメ2 https://abema.tv/t
 imetable/channels/family-anime-2]]) https://abema.tv/channels/family-anime
 -2/slots/AkN7ZjZXuVtVnf リピート放送は 4/22(水) 13:30～ https://a
 bema.tv/channels/family-anime-2/slots/Ah77oqet27UNW3 、4/22(水) 23:00～
  https://abema.tv/channels/family-anime-2/slots/Ah77q4ADWwTXy9 (無料TS1
 週間) https://prtimes.jp/main/html/rd/p/000002330.000064643.html
LOCATION:ABEMA特設その他
END:VEVENT
END:VCALENDAR
